Package: dittoSeq Version: 1.21.1 Command: rm -rf dittoSeq.buildbin-libdir && mkdir dittoSeq.buildbin-libdir && /Users/biocbuild/BBS/utils/build-universal.sh dittoSeq_1.21.1.tar.gz /Library/Frameworks/R.framework/Resources/bin/R dittoSeq.buildbin-libdir StartedAt: 2025-10-20 03:06:17 -0400 (Mon, 20 Oct 2025) EndedAt: 2025-10-20 03:06:58 -0400 (Mon, 20 Oct 2025) EllapsedTime: 41.5 seconds RetCode: 0 Status: OK PackageFile: dittoSeq_1.21.1.tgz PackageFileSize: 2.801 MiB