Package: dittoSeq Version: 1.21.1 Maintainer: Daniel Bunis MaintainerEmail: daniel.bunis at ucsf.edu git_url: https://git.bioconductor.org/packages/dittoSeq git_branch: devel git_last_commit: 7727ea8 git_last_commit_date: 2025-10-06 11:22:10 -0400 (Mon, 06 Oct 2025)