Package: distinct Version: 1.21.1 Command: /Library/Frameworks/R.framework/Resources/bin/R CMD INSTALL distinct StartedAt: 2025-10-17 15:50:24 -0400 (Fri, 17 Oct 2025) EndedAt: 2025-10-17 15:51:46 -0400 (Fri, 17 Oct 2025) EllapsedTime: 82.0 seconds RetCode: 0 Status: OK