Package: distinct Version: 1.21.1 Command: /Library/Frameworks/R.framework/Resources/bin/R CMD check --install=check:distinct.install-out.txt --library=/Library/Frameworks/R.framework/Resources/library --no-vignettes --timings distinct_1.21.1.tar.gz StartedAt: 2025-10-20 21:50:00 -0400 (Mon, 20 Oct 2025) EndedAt: 2025-10-20 21:57:02 -0400 (Mon, 20 Oct 2025) EllapsedTime: 421.6 seconds RetCode: 0 Status: OK CheckDir: distinct.Rcheck Warnings: 0