Package: distinct Version: 1.21.1 Command: rm -rf distinct.buildbin-libdir && mkdir distinct.buildbin-libdir && /Users/biocbuild/BBS/utils/build-universal.sh distinct_1.21.1.tar.gz /Library/Frameworks/R.framework/Resources/bin/R distinct.buildbin-libdir StartedAt: 2025-10-18 02:55:03 -0400 (Sat, 18 Oct 2025) EndedAt: 2025-10-18 02:56:30 -0400 (Sat, 18 Oct 2025) EllapsedTime: 86.7 seconds RetCode: 0 Status: OK PackageFile: distinct_1.21.1.tgz PackageFileSize: 2.013 MiB