Package: distinct Version: 1.21.0 Command: /Library/Frameworks/R.framework/Resources/bin/R CMD check --install=check:distinct.install-out.txt --library=/Library/Frameworks/R.framework/Resources/library --no-vignettes --timings distinct_1.21.0.tar.gz StartedAt: 2025-10-03 19:12:52 -0400 (Fri, 03 Oct 2025) EndedAt: 2025-10-03 19:15:10 -0400 (Fri, 03 Oct 2025) EllapsedTime: 138.7 seconds RetCode: 0 Status: OK CheckDir: distinct.Rcheck Warnings: 0