Package: distinct Version: 1.21.0 Command: rm -rf distinct.buildbin-libdir && mkdir distinct.buildbin-libdir && /Users/biocbuild/BBS/utils/build-universal.sh distinct_1.21.0.tar.gz /Library/Frameworks/R.framework/Resources/bin/R distinct.buildbin-libdir StartedAt: 2025-10-03 22:37:27 -0400 (Fri, 03 Oct 2025) EndedAt: 2025-10-03 22:37:50 -0400 (Fri, 03 Oct 2025) EllapsedTime: 23.4 seconds RetCode: 0 Status: OK PackageFile: distinct_1.21.0.tgz PackageFileSize: 2.008 MiB