Package: diggit Version: 1.42.0 Command: /home/biocbuild/R/R/bin/R CMD check --install=check:diggit.install-out.txt --library=/home/biocbuild/R/R/site-library --no-vignettes --timings diggit_1.42.0.tar.gz StartedAt: 2025-11-21 10:02:28 -0000 (Fri, 21 Nov 2025) EndedAt: 2025-11-21 10:31:49 -0000 (Fri, 21 Nov 2025) EllapsedTime: 1761.4 seconds RetCode: 0 Status: WARNINGS CheckDir: diggit.Rcheck Warnings: 3