Package: diggit Version: 1.42.0 Command: /home/biocbuild/R/R/bin/R CMD build --keep-empty-dirs --no-resave-data diggit StartedAt: 2025-11-21 01:54:48 -0000 (Fri, 21 Nov 2025) EndedAt: 2025-11-21 01:58:19 -0000 (Fri, 21 Nov 2025) EllapsedTime: 211.2 seconds RetCode: 0 Status: OK PackageFile: diggit_1.42.0.tar.gz PackageFileSize: 338.9 KiB