Package: diggit Version: 1.42.0 Command: /home/biocbuild/bbs-3.22-bioc/R/bin/R CMD INSTALL diggit StartedAt: 2025-11-09 15:13:16 -0500 (Sun, 09 Nov 2025) EndedAt: 2025-11-09 15:13:29 -0500 (Sun, 09 Nov 2025) EllapsedTime: 13.1 seconds RetCode: 0 Status: OK