Package: diggit Version: 1.42.0 Command: /home/biocbuild/bbs-3.22-bioc/R/bin/R CMD build --keep-empty-dirs --no-resave-data --md5 diggit StartedAt: 2025-11-09 17:25:09 -0500 (Sun, 09 Nov 2025) EndedAt: 2025-11-09 17:27:30 -0500 (Sun, 09 Nov 2025) EllapsedTime: 141.1 seconds RetCode: 0 Status: OK PackageFile: diggit_1.42.0.tar.gz PackageFileSize: 349.6 KiB