Package: diggit Version: 1.42.0 Command: /Library/Frameworks/R.framework/Resources/bin/R CMD build --keep-empty-dirs --no-resave-data diggit StartedAt: 2025-11-03 16:48:56 -0500 (Mon, 03 Nov 2025) EndedAt: 2025-11-03 16:52:02 -0500 (Mon, 03 Nov 2025) EllapsedTime: 185.9 seconds RetCode: 0 Status: OK PackageFile: diggit_1.42.0.tar.gz PackageFileSize: 348 KiB