Package: diggit Version: 1.42.0 Command: /Library/Frameworks/R.framework/Resources/bin/R CMD INSTALL diggit StartedAt: 2025-11-02 15:07:20 -0500 (Sun, 02 Nov 2025) EndedAt: 2025-11-02 15:07:26 -0500 (Sun, 02 Nov 2025) EllapsedTime: 5.9 seconds RetCode: 0 Status: OK