Package: diggit Version: 1.42.0 Command: /Library/Frameworks/R.framework/Resources/bin/R CMD check --install=check:diggit.install-out.txt --library=/Library/Frameworks/R.framework/Resources/library --no-vignettes --timings diggit_1.42.0.tar.gz StartedAt: 2025-11-06 19:29:22 -0500 (Thu, 06 Nov 2025) EndedAt: 2025-11-06 19:30:31 -0500 (Thu, 06 Nov 2025) EllapsedTime: 68.9 seconds RetCode: 0 Status: WARNINGS CheckDir: diggit.Rcheck Warnings: 3