Package: diggit Version: 1.42.0 Command: rm -rf diggit.buildbin-libdir && mkdir diggit.buildbin-libdir && /Users/biocbuild/BBS/utils/build-universal.sh diggit_1.42.0.tar.gz /Library/Frameworks/R.framework/Resources/bin/R diggit.buildbin-libdir StartedAt: 2025-11-02 23:02:52 -0500 (Sun, 02 Nov 2025) EndedAt: 2025-11-02 23:02:58 -0500 (Sun, 02 Nov 2025) EllapsedTime: 6.1 seconds RetCode: 0 Status: OK PackageFile: diggit_1.42.0.tgz PackageFileSize: 607.2 KiB