Package: diffHic Version: 1.41.0 Command: /home/biocbuild/R/R/bin/R CMD check --install=check:diffHic.install-out.txt --library=/home/biocbuild/R/R/site-library --no-vignettes --timings diffHic_1.41.0.tar.gz StartedAt: 2025-10-21 07:30:59 -0000 (Tue, 21 Oct 2025) EndedAt: 2025-10-21 07:38:09 -0000 (Tue, 21 Oct 2025) EllapsedTime: 429.3 seconds RetCode: 0 Status: OK CheckDir: diffHic.Rcheck Warnings: 0