Package: diffHic Version: 1.41.0 Command: /Library/Frameworks/R.framework/Resources/bin/R CMD INSTALL diffHic StartedAt: 2025-10-22 15:31:36 -0400 (Wed, 22 Oct 2025) EndedAt: 2025-10-22 15:33:28 -0400 (Wed, 22 Oct 2025) EllapsedTime: 112.1 seconds RetCode: 0 Status: OK