Package: diffHic Version: 1.41.0 Command: /Library/Frameworks/R.framework/Resources/bin/R CMD check --install=check:diffHic.install-out.txt --library=/Library/Frameworks/R.framework/Resources/library --no-vignettes --timings diffHic_1.41.0.tar.gz StartedAt: 2025-10-22 20:40:14 -0400 (Wed, 22 Oct 2025) EndedAt: 2025-10-22 20:46:26 -0400 (Wed, 22 Oct 2025) EllapsedTime: 371.7 seconds RetCode: 0 Status: OK CheckDir: diffHic.Rcheck Warnings: 0