Package: diffHic Version: 1.41.0 Command: /Library/Frameworks/R.framework/Resources/bin/R CMD build --keep-empty-dirs --no-resave-data diffHic StartedAt: 2025-10-22 16:45:21 -0400 (Wed, 22 Oct 2025) EndedAt: 2025-10-22 16:47:07 -0400 (Wed, 22 Oct 2025) EllapsedTime: 105.1 seconds RetCode: 0 Status: OK PackageFile: diffHic_1.41.0.tar.gz PackageFileSize: 1.517 MiB