Package: diffHic Version: 1.41.0 Command: /Library/Frameworks/R.framework/Resources/bin/R CMD INSTALL diffHic StartedAt: 2025-10-22 15:18:48 -0400 (Wed, 22 Oct 2025) EndedAt: 2025-10-22 15:19:19 -0400 (Wed, 22 Oct 2025) EllapsedTime: 30.9 seconds RetCode: 0 Status: OK