Package: destiny Version: 3.23.0 Command: rm -rf destiny.buildbin-libdir && mkdir destiny.buildbin-libdir && F:\biocbuild\bbs-3.22-bioc\R\bin\R.exe CMD INSTALL --build --library=destiny.buildbin-libdir destiny_3.23.0.tar.gz StartedAt: 2025-08-15 10:09:03 -0400 (Fri, 15 Aug 2025) EndedAt: 2025-08-15 10:10:45 -0400 (Fri, 15 Aug 2025) EllapsedTime: 101.6 seconds RetCode: 0 Status: OK PackageFile: destiny_3.23.0.zip PackageFileSize: 1.764 MiB