Package: destiny Version: 3.23.0 Command: /home/biocbuild/bbs-3.22-bioc/R/bin/R CMD build --keep-empty-dirs --no-resave-data --md5 destiny StartedAt: 2025-10-03 17:16:34 -0400 (Fri, 03 Oct 2025) EndedAt: 2025-10-03 17:22:52 -0400 (Fri, 03 Oct 2025) EllapsedTime: 378.3 seconds RetCode: 0 Status: OK PackageFile: destiny_3.23.0.tar.gz PackageFileSize: 879.4 KiB