Package: destiny Version: 3.24.0 Command: /Library/Frameworks/R.framework/Resources/bin/R CMD INSTALL destiny StartedAt: 2025-10-31 15:17:32 -0400 (Fri, 31 Oct 2025) EndedAt: 2025-10-31 15:17:51 -0400 (Fri, 31 Oct 2025) EllapsedTime: 18.6 seconds RetCode: 0 Status: OK