Package: destiny Version: 3.24.0 Command: /Library/Frameworks/R.framework/Resources/bin/R CMD build --keep-empty-dirs --no-resave-data destiny StartedAt: 2025-11-02 16:11:33 -0500 (Sun, 02 Nov 2025) EndedAt: 2025-11-02 16:14:30 -0500 (Sun, 02 Nov 2025) EllapsedTime: 177.0 seconds RetCode: 0 Status: OK PackageFile: destiny_3.24.0.tar.gz PackageFileSize: 1022 KiB