Package: derfinderPlot Version: 1.43.1 Command: /home/biocbuild/R/R/bin/R CMD INSTALL derfinderPlot StartedAt: 2025-09-29 21:37:22 -0000 (Mon, 29 Sep 2025) EndedAt: 2025-09-29 21:38:27 -0000 (Mon, 29 Sep 2025) EllapsedTime: 64.9 seconds RetCode: 0 Status: OK