Package: derfinderPlot Version: 1.43.1 Command: /home/biocbuild/R/R/bin/R CMD check --install=check:derfinderPlot.install-out.txt --library=/home/biocbuild/R/R/site-library --no-vignettes --timings derfinderPlot_1.43.1.tar.gz StartedAt: 2025-10-03 06:31:50 -0000 (Fri, 03 Oct 2025) EndedAt: 2025-10-03 06:43:51 -0000 (Fri, 03 Oct 2025) EllapsedTime: 720.7 seconds RetCode: 0 Status: OK CheckDir: derfinderPlot.Rcheck Warnings: 0