Package: derfinder Version: 1.44.0 Command: /home/biocbuild/bbs-3.22-bioc/R/bin/R CMD INSTALL derfinder StartedAt: 2025-11-17 18:11:21 -0500 (Mon, 17 Nov 2025) EndedAt: 2025-11-17 18:12:09 -0500 (Mon, 17 Nov 2025) EllapsedTime: 48.8 seconds RetCode: 0 Status: OK