Package: derfinder Version: 1.44.0 Command: /Library/Frameworks/R.framework/Resources/bin/R CMD build --keep-empty-dirs --no-resave-data derfinder StartedAt: 2025-11-10 16:11:11 -0500 (Mon, 10 Nov 2025) EndedAt: 2025-11-10 16:13:18 -0500 (Mon, 10 Nov 2025) EllapsedTime: 126.4 seconds RetCode: 0 Status: OK PackageFile: derfinder_1.44.0.tar.gz PackageFileSize: 2.014 MiB