Package: densvis Version: 1.19.0 Command: /Library/Frameworks/R.framework/Resources/bin/R CMD INSTALL densvis StartedAt: 2025-10-17 15:06:24 -0400 (Fri, 17 Oct 2025) EndedAt: 2025-10-17 15:06:33 -0400 (Fri, 17 Oct 2025) EllapsedTime: 9.1 seconds RetCode: 0 Status: OK