Package: densvis Version: 1.19.0 Command: /Library/Frameworks/R.framework/Resources/bin/R CMD build --keep-empty-dirs --no-resave-data densvis StartedAt: 2025-10-17 16:10:25 -0400 (Fri, 17 Oct 2025) EndedAt: 2025-10-17 16:10:48 -0400 (Fri, 17 Oct 2025) EllapsedTime: 23.2 seconds RetCode: 1 Status: ERROR PackageFile: None PackageFileSize: NA