Package: deltaCaptureC Version: 1.23.1 Command: /home/biocbuild/R/R/bin/R CMD INSTALL deltaCaptureC StartedAt: 2025-10-16 21:45:25 -0000 (Thu, 16 Oct 2025) EndedAt: 2025-10-16 21:46:07 -0000 (Thu, 16 Oct 2025) EllapsedTime: 42.5 seconds RetCode: 0 Status: OK