Package: deltaCaptureC Version: 1.23.1 Command: /home/biocbuild/R/R/bin/R CMD build --keep-empty-dirs --no-resave-data deltaCaptureC StartedAt: 2025-10-17 00:35:32 -0000 (Fri, 17 Oct 2025) EndedAt: 2025-10-17 00:38:30 -0000 (Fri, 17 Oct 2025) EllapsedTime: 177.1 seconds RetCode: 0 Status: OK PackageFile: deltaCaptureC_1.23.1.tar.gz PackageFileSize: 332.4 KiB