Package: deltaCaptureC Version: 1.23.1 Command: F:\biocbuild\bbs-3.22-bioc\R\bin\R.exe CMD check --no-multiarch --install=check:deltaCaptureC.install-out.txt --library=F:\biocbuild\bbs-3.22-bioc\R\library --no-vignettes --timings deltaCaptureC_1.23.1.tar.gz StartedAt: 2025-08-15 02:27:30 -0400 (Fri, 15 Aug 2025) EndedAt: 2025-08-15 02:33:38 -0400 (Fri, 15 Aug 2025) EllapsedTime: 368.3 seconds RetCode: 0 Status: OK CheckDir: deltaCaptureC.Rcheck Warnings: 0