Package: deltaCaptureC Version: 1.23.1 Command: /home/biocbuild/bbs-3.22-bioc/R/bin/R CMD check --install=check:deltaCaptureC.install-out.txt --library=/home/biocbuild/bbs-3.22-bioc/R/site-library --timings deltaCaptureC_1.23.1.tar.gz StartedAt: 2025-10-19 23:03:56 -0400 (Sun, 19 Oct 2025) EndedAt: 2025-10-19 23:10:13 -0400 (Sun, 19 Oct 2025) EllapsedTime: 377.3 seconds RetCode: 0 Status: OK CheckDir: deltaCaptureC.Rcheck Warnings: 0