Package: deltaCaptureC Version: 1.23.1 Command: /Library/Frameworks/R.framework/Resources/bin/R CMD INSTALL deltaCaptureC StartedAt: 2025-10-19 15:27:08 -0400 (Sun, 19 Oct 2025) EndedAt: 2025-10-19 15:27:53 -0400 (Sun, 19 Oct 2025) EllapsedTime: 45.1 seconds RetCode: 0 Status: OK