Package: deltaCaptureC Version: 1.23.1 Command: rm -rf deltaCaptureC.buildbin-libdir && mkdir deltaCaptureC.buildbin-libdir && /Users/biocbuild/BBS/utils/build-universal.sh deltaCaptureC_1.23.1.tar.gz /Library/Frameworks/R.framework/Resources/bin/R deltaCaptureC.buildbin-libdir StartedAt: 2025-10-20 03:05:24 -0400 (Mon, 20 Oct 2025) EndedAt: 2025-10-20 03:06:12 -0400 (Mon, 20 Oct 2025) EllapsedTime: 48.5 seconds RetCode: 0 Status: OK PackageFile: deltaCaptureC_1.23.1.tgz PackageFileSize: 598.7 KiB