Package: deltaCaptureC Version: 1.23.1 Command: /Library/Frameworks/R.framework/Resources/bin/R CMD INSTALL deltaCaptureC StartedAt: 2025-10-21 15:16:45 -0400 (Tue, 21 Oct 2025) EndedAt: 2025-10-21 15:16:59 -0400 (Tue, 21 Oct 2025) EllapsedTime: 13.5 seconds RetCode: 0 Status: OK