Package: deltaCaptureC Version: 1.23.1 Command: /Library/Frameworks/R.framework/Resources/bin/R CMD check --install=check:deltaCaptureC.install-out.txt --library=/Library/Frameworks/R.framework/Resources/library --no-vignettes --timings deltaCaptureC_1.23.1.tar.gz StartedAt: 2025-10-21 19:24:40 -0400 (Tue, 21 Oct 2025) EndedAt: 2025-10-21 19:26:19 -0400 (Tue, 21 Oct 2025) EllapsedTime: 98.2 seconds RetCode: 0 Status: OK CheckDir: deltaCaptureC.Rcheck Warnings: 0