Package: deepSNV Version: 1.55.0 Command: rm -rf deepSNV.buildbin-libdir && mkdir deepSNV.buildbin-libdir && F:\biocbuild\bbs-3.22-bioc\R\bin\R.exe CMD INSTALL --build --library=deepSNV.buildbin-libdir deepSNV_1.55.0.tar.gz StartedAt: 2025-08-15 10:06:54 -0400 (Fri, 15 Aug 2025) EndedAt: 2025-08-15 10:08:12 -0400 (Fri, 15 Aug 2025) EllapsedTime: 78.1 seconds RetCode: 0 Status: OK PackageFile: deepSNV_1.55.0.zip PackageFileSize: 7.702 MiB