Package: deepSNV Version: 1.56.0 Command: /home/biocbuild/bbs-3.22-bioc/R/bin/R CMD build --keep-empty-dirs --no-resave-data --md5 deepSNV StartedAt: 2025-10-31 17:23:19 -0400 (Fri, 31 Oct 2025) EndedAt: 2025-10-31 17:24:33 -0400 (Fri, 31 Oct 2025) EllapsedTime: 73.0 seconds RetCode: 0 Status: OK PackageFile: deepSNV_1.56.0.tar.gz PackageFileSize: 2.467 MiB