Package: deepSNV Version: 1.56.0 Command: /Library/Frameworks/R.framework/Resources/bin/R CMD INSTALL deepSNV StartedAt: 2025-10-31 15:44:28 -0400 (Fri, 31 Oct 2025) EndedAt: 2025-10-31 15:45:30 -0400 (Fri, 31 Oct 2025) EllapsedTime: 62.1 seconds RetCode: 0 Status: OK