Package: deepSNV Version: 1.56.0 Command: /Library/Frameworks/R.framework/Resources/bin/R CMD build --keep-empty-dirs --no-resave-data deepSNV StartedAt: 2025-10-31 16:47:51 -0400 (Fri, 31 Oct 2025) EndedAt: 2025-10-31 16:49:37 -0400 (Fri, 31 Oct 2025) EllapsedTime: 106.2 seconds RetCode: 0 Status: OK PackageFile: deepSNV_1.56.0.tar.gz PackageFileSize: 2.528 MiB