Package: deepSNV Version: 1.56.0 Command: /Library/Frameworks/R.framework/Resources/bin/R CMD INSTALL deepSNV StartedAt: 2025-11-02 15:20:50 -0500 (Sun, 02 Nov 2025) EndedAt: 2025-11-02 15:21:08 -0500 (Sun, 02 Nov 2025) EllapsedTime: 18.0 seconds RetCode: 0 Status: OK