Package: decoupleR Version: 2.15.0 Command: /home/biocbuild/R/R/bin/R CMD check --install=check:decoupleR.install-out.txt --library=/home/biocbuild/R/R/site-library --no-vignettes --timings decoupleR_2.15.0.tar.gz StartedAt: 2025-10-21 07:13:28 -0000 (Tue, 21 Oct 2025) EndedAt: 2025-10-21 07:26:48 -0000 (Tue, 21 Oct 2025) EllapsedTime: 800.5 seconds RetCode: 1 Status: ERROR CheckDir: decoupleR.Rcheck Warnings: NA