Package: decoupleR Version: 2.15.0 Command: /home/biocbuild/R/R/bin/R CMD build --keep-empty-dirs --no-resave-data decoupleR StartedAt: 2025-10-17 00:30:34 -0000 (Fri, 17 Oct 2025) EndedAt: 2025-10-17 00:36:46 -0000 (Fri, 17 Oct 2025) EllapsedTime: 372.1 seconds RetCode: 0 Status: OK PackageFile: decoupleR_2.15.0.tar.gz PackageFileSize: 4.095 MiB