Package: decoupleR Version: 2.16.0 Command: /Library/Frameworks/R.framework/Resources/bin/R CMD INSTALL decoupleR StartedAt: 2025-11-03 15:16:06 -0500 (Mon, 03 Nov 2025) EndedAt: 2025-11-03 15:16:30 -0500 (Mon, 03 Nov 2025) EllapsedTime: 23.6 seconds RetCode: 0 Status: OK