Package: decoupleR Version: 2.16.0 Command: rm -rf decoupleR.buildbin-libdir && mkdir decoupleR.buildbin-libdir && /Users/biocbuild/BBS/utils/build-universal.sh decoupleR_2.16.0.tar.gz /Library/Frameworks/R.framework/Resources/bin/R decoupleR.buildbin-libdir StartedAt: 2025-11-04 01:36:10 -0500 (Tue, 04 Nov 2025) EndedAt: 2025-11-04 01:36:24 -0500 (Tue, 04 Nov 2025) EllapsedTime: 13.9 seconds RetCode: 0 Status: OK PackageFile: decoupleR_2.16.0.tgz PackageFileSize: 4.625 MiB