Package: decoupleR Version: 2.15.0 Command: /Library/Frameworks/R.framework/Resources/bin/R CMD INSTALL decoupleR StartedAt: 2025-10-10 15:07:34 -0400 (Fri, 10 Oct 2025) EndedAt: 2025-10-10 15:07:40 -0400 (Fri, 10 Oct 2025) EllapsedTime: 6.3 seconds RetCode: 0 Status: OK