Package: deconvR Version: 1.15.1 Command: /home/biocbuild/R/R/bin/R CMD INSTALL deconvR StartedAt: 2025-10-06 21:07:07 -0000 (Mon, 06 Oct 2025) EndedAt: 2025-10-06 21:08:12 -0000 (Mon, 06 Oct 2025) EllapsedTime: 64.8 seconds RetCode: 0 Status: OK