Package: deconvR Version: 1.15.1 Command: /home/biocbuild/R/R/bin/R CMD check --install=check:deconvR.install-out.txt --library=/home/biocbuild/R/R/site-library --no-vignettes --timings deconvR_1.15.1.tar.gz StartedAt: 2025-10-10 07:53:39 -0000 (Fri, 10 Oct 2025) EndedAt: 2025-10-10 08:20:26 -0000 (Fri, 10 Oct 2025) EllapsedTime: 1607.0 seconds RetCode: 0 Status: OK CheckDir: deconvR.Rcheck Warnings: 0